Workbook

Sheet ReadMe
A1: Purpose | B1: This spreadsheet is a collection of themed stocks. It can be used to see how various groups of stocks perform over time.
A4: Instructions
A5: 1 | B5: The OverallStats sheet contains a table and chart showing how each group of stocks has performed since the basket was created.
A6: 2 | B6: You can jump to any basket by clicking on the desired link in the table, or going directly to the sheet by clicking on the appropriate named tab.
A7: 3 | B7: Each sheet has a 'Return to Overall Stats' link that will take you back to the OverallStats sheet.
A8: 4 | B8: If you want to create your own themed basket you can edit one of the existing sheets and add your own companies. If you rename the tab you will have to edit the appropriate link on the OverallStats sheet.
A9: 5 | B9: You can also create your own themed basket by copying an existing sheet and editing accordingly.
B11: For items 4 and 5 you need to be familiar with editing Excel formulas and hyperlinks.

Sheet OverallStats
A1: Overall Stats for Stock Samplers
A3: All Time Totals | D3: % Change | E3: S&P 500 | F3: v S&P500 | G3: TSE 60 | H3: v TSE 60
D4: =AVERAGE(tbl_OverallStats[% Change]) -> -0.12342268 | E4: =AVERAGE(tbl_OverallStats[S&P 500]) -> 0.1066945 | F4: =AVERAGE(tbl_OverallStats[v S&P 500]) -> -0.23011718 | G4: =AVERAGE(tbl_OverallStats[TSE 60]) -> 0.095348951 | H4: =AVERAGE(tbl_OverallStats[v TSE 60]) -> -0.21877163
A6: # | B6: Date | C6: 5 Stock Theme | D6: % Change | E6: S&P 500 | F6: v S&P 500 | G6: TSE 60 | H6: v TSE 60
A7: 1 | B7: 42754 | C7: Artificial Intellignece | D7: =AI!B57 -> 0.30041216 | E7: =AI!B58 -> 0.70922803 | F7: =AI!B60 -> -0.40881587 | G7: =AI!B59 -> 0.27724499 | H7: =AI!B61 -> 0.02316717
A8: 2 | B8: =CashlessSociety!B20 -> 43303 | C8: Cashless Society stocks | D8: =CashlessSociety!B33 -> 0.5093002 | E8: =CashlessSociety!B34 -> 0.3677777 | F8: =CashlessSociety!B36 -> 0.14152251 | G8: =CashlessSociety!$B$35 -> 0.19202604 | H8: =CashlessSociety!$B$37 -> 0.31727417
A9: 3 | B9: =DigitalRevolution!B20 -> 43962 | C9: Digital Revolution stocks | D9: =DigitalRevolution!B33 -> -0.15391292 | E9: =CashlessSociety!$B$34 -> 0.3677777 | F9: =DigitalRevolution!B36 -> -0.52169062 | G9: =DigitalRevolution!B35 -> 0.26347564 | H9: =DigitalRevolution!B37 -> -0.41738855
A10: 4 | B10: =CDNStarter!B20 -> 44086 | C10: Canadian Starter Stocks | D10: =CDNStarter!B33 -> 0.04161476 | E10: =CDNStarter!B34 -> 0.1522481 | F10: =CDNStarter!B36 -> -0.11063334 | G10: =CDNStarter!B35 -> 0.19591837 | H10: =CDNStarter!B37 -> -0.15430361
A11: 5 | B11: =GoneToTheAnimals!B20 -> 44169 | C11: Stocks for Pets | D11: =GoneToTheAnimals!B35 -> -0.3505713 | E11: =GoneToTheAnimals!B36 -> 0.040943264 | F11: =GoneToTheAnimals!B38 -> -0.39151457 | G11: =GoneToTheAnimals!B37 -> 0.11704156 | H11: =GoneToTheAnimals!B39 -> -0.46761286
A12: 6 | B12: =CdnTechs!B20 -> 44175 | C12: Canadian Tech Stocks | D12: =CdnTechs!B36 -> -0.31016086 | E12: =CdnTechs!B37 -> 0.049600524 | F12: =CdnTechs!B38 -> -0.35976138 | G12: =CdnTechs!B39 -> 0.10900833 | H12: =CdnTechs!B40 -> -0.41916918
A13: 7 | B13: =GreenRevolution!B20 -> 44208 | C13: Green Revolution | D13: =GreenRevolution!B33 -> -0.31319799 | E13: =GreenRevolution!B34 -> 0.016236766 | F13: =GreenRevolution!B36 -> -0.32943476 | G13: =GreenRevolution!B35 -> 0.084381939 | H13: =GreenRevolution!B37 -> -0.39757993
A14: 8 | B14: 44216 | C14: Electric Vehicles | D14: =ElectricVehicles!B33 -> -0.32703359 | E14: =ElectricVehicles!B34 -> 0.0026830603 | F14: =ElectricVehicles!B36 -> -0.32971665 | G14: =ElectricVehicles!B35 -> 0.084783414 | H14: =ElectricVehicles!B37 -> -0.411817
A15: 9 | B15: 44236 | C15: Buy Now Pay Later | D15: =BuyNowPayLater!B33 -> -0.38384007 | E15: =BuyNowPayLater!B34 -> -0.013493599 | F15: =BuyNowPayLater!B36 -> -0.37034647 | G15: =BuyNowPayLater!B35 -> 0.064680233 | H15: =BuyNowPayLater!B37 -> -0.44852031
A16: 10 | B16: 44372 | C16: For The Consumer | D16: =ForTheConsumer!B33 -> -0.32804073 | E16: =ForTheConsumer!B34 -> -0.097723916 | F16: =ForTheConsumer!B36 -> -0.23031681 | G16: =ForTheConsumer!B35 -> -0.043421482 | H16: =ForTheConsumer!B37 -> -0.28461925
A17: 11 | B17: 44372 | C17: Get Out and Go | D17: =GetOutAndGo!B33 -> -0.23155103 | E17: =GetOutAndGo!B34 -> -0.097723916 | F17: =GetOutAndGo!B36 -> -0.13382711 | G17: =GetOutAndGo!B35 -> -0.043421482 | H17: =GetOutAndGo!B37 -> -0.18812955
A18: 12 | B18: 44418 | C18: US Infrastructure Build Out | D18: =USInfrastructure!B34 -> -0.090723872 | E18: =USInfrastructure!B35 -> -0.130478 | F18: =USInfrastructure!B37 -> 0.039754126 | G18: =USInfrastructure!B36 -> -0.061499039 | H18: =USInfrastructure!B38 -> -0.029224833
A19: 14 | B19: 44825 | C19: Copper Producers | D19: =Copper!B36 -> 0.033210457 | E19: =Copper!B37 -> 0.019952834 | F19: =Copper!B39 -> 0.013257623 | G19: =Copper!B38 -> -0.00068212824 | H19: =Copper!B40 -> 0.033892585

Sheet AI
A1: AI Portfolio | H1: Return to Overall Stats
A20: Start date | B20: 42754
A21: Company | B21: Ticker symbol | C21: Start Date | D21: Start Price | E21: Price | F21: % Change | G21: S&P 500 | H21: V S&P 500 | I21: TSX 60 | J21: v TSX 60
A22: #VALUE! | B22: {=_FV(tbl_AI[[#This Row],[Company]],"Ticker symbol",TRUE)} -> NXPI | C22: 44237 | D22: 187.9 | E22: {=_FV(tbl_AI[[#This Row],[Company]],"Price")} -> 148.74 | F22: =(tbl_AI[[#This Row],[Price]]-tbl_AI[[#This Row],[Start Price]])/tbl_AI[[#This Row],[Start Price]] -> -0.20840873 | G22: =$F$51 -> 0.70386437 | H22: =tbl_AI[[#This Row],[% Change]]-tbl_AI[[#This Row],[S&P 500]] -> -0.9122731 | I22: =$F$52 -> 0.27724499 | J22: =tbl_AI[[#This Row],[% Change]]-tbl_AI[[#This Row],[TSX 60]] -> -0.48565371
A23: #VALUE! | B23: {=_FV(tbl_AI[[#This Row],[Company]],"Ticker symbol",TRUE)} -> GRMN | C23: 44173 | D23: 122.85 | E23: {=_FV(tbl_AI[[#This Row],[Company]],"Price")} -> 84.89 | F23: =(tbl_AI[[#This Row],[Price]]-tbl_AI[[#This Row],[Start Price]])/tbl_AI[[#This Row],[Start Price]] -> -0.30899471 | G23: =$F$51 -> 0.70386437 | H23: =tbl_AI[[#This Row],[% Change]]-tbl_AI[[#This Row],[S&P 500]] -> -1.0128591 | I23: =$F$52 -> 0.27724499 | J23: =tbl_AI[[#This Row],[% Change]]-tbl_AI[[#This Row],[TSX 60]] -> -0.5862397
A24: #VALUE! | B24: {=_FV(tbl_AI[[#This Row],[Company]],"Ticker symbol",TRUE)} -> SSTK | C24: 44111 | D24: 57.84 | E24: {=_FV(tbl_AI[[#This Row],[Company]],"Price")} -> 50.64 | F24: =(tbl_AI[[#This Row],[Price]]-tbl_AI[[#This Row],[Start Price]])/tbl_AI[[#This Row],[Start Price]] -> -0.12448133 | G24: =$F$51 -> 0.70386437 | H24: =tbl_AI[[#This Row],[% Change]]-tbl_AI[[#This Row],[S&P 500]] -> -0.8283457 | I24: =$F$52 -> 0.27724499 | J24: =tbl_AI[[#This Row],[% Change]]-tbl_AI[[#This Row],[TSX 60]] -> -0.40172631
A25: #VALUE! | B25: {=_FV(tbl_AI[[#This Row],[Company]],"Ticker symbol",TRUE)} -> CRNC | C25: 44046 | D25: 41.48 | E25: {=_FV(tbl_AI[[#This Row],[Company]],"Price")} -> 17.46 | F25: =(tbl_AI[[#This Row],[Price]]-tbl_AI[[#This Row],[Start Price]])/tbl_AI[[#This Row],[Start Price]] -> -0.57907425 | G25: =$F$51 -> 0.70386437 | H25: =tbl_AI[[#This Row],[% Change]]-tbl_AI[[#This Row],[S&P 500]] -> -1.2829386 | I25: =$F$52 -> 0.27724499 | J25: =tbl_AI[[#This Row],[% Change]]-tbl_AI[[#This Row],[TSX 60]] -> -0.85631924
A26: #VALUE! | B26: {=_FV(tbl_AI[[#This Row],[Company]],"Ticker symbol",TRUE)} -> CRM | C26: 43986 | D26: 171.44 | E26: {=_FV(tbl_AI[[#This Row],[Company]],"Price")} -> 165.27 | F26: =(tbl_AI[[#This Row],[Price]]-tbl_AI[[#This Row],[Start Price]])/tbl_AI[[#This Row],[Start Price]] -> -0.035989267 | G26: =$F$51 -> 0.70386437 | H26: =tbl_AI[[#This Row],[% Change]]-tbl_AI[[#This Row],[S&P 500]] -> -0.73985364 | I26: =$F$52 -> 0.27724499 | J26: =tbl_AI[[#This Row],[% Change]]-tbl_AI[[#This Row],[TSX 60]] -> -0.31323425
A27: #VALUE! | B27: {=_FV(tbl_AI[[#This Row],[Company]],"Ticker symbol",TRUE)} -> ETSY | C27: 43927 | D27: 46.46 | E27: {=_FV(tbl_AI[[#This Row],[Company]],"Price")} -> 103.24 | F27: =(tbl_AI[[#This Row],[Price]]-tbl_AI[[#This Row],[Start Price]])/tbl_AI[[#This Row],[Start Price]] -> 1.2221266 | G27: =$F$51 -> 0.70386437 | H27: =tbl_AI[[#This Row],[% Change]]-tbl_AI[[#This Row],[S&P 500]] -> 0.51826219 | I27: =$F$52 -> 0.27724499 | J27: =tbl_AI[[#This Row],[% Change]]-tbl_AI[[#This Row],[TSX 60]] -> 0.94488157
A28: #VALUE! | B28: {=_FV(tbl_AI[[#This Row],[Company]],"Ticker symbol",TRUE)} -> FTCH | C28: 43892 | D28: 10.9 | E28: {=_FV(tbl_AI[[#This Row],[Company]],"Price")} -> 8.26 | F28: =(tbl_AI[[#This Row],[Price]]-tbl_AI[[#This Row],[Start Price]])/tbl_AI[[#This Row],[Start Price]] -> -0.24220183 | G28: =$F$51 -> 0.70386437 | H28: =tbl_AI[[#This Row],[% Change]]-tbl_AI[[#This Row],[S&P 500]] -> -0.94606621 | I28: =$F$52 -> 0.27724499 | J28: =tbl_AI[[#This Row],[% Change]]-tbl_AI[[#This Row],[TSX 60]] -> -0.51944682
A29: #VALUE! | B29: {=_FV(tbl_AI[[#This Row],[Company]],"Ticker symbol",TRUE)} -> INTC | C29: 43865 | D29: 65.46 | E29: {=_FV(tbl_AI[[#This Row],[Company]],"Price")} -> 27.41 | F29: =(tbl_AI[[#This Row],[Price]]-tbl_AI[[#This Row],[Start Price]])/tbl_AI[[#This Row],[Start Price]] -> -0.58127101 | G29: =$F$51 -> 0.70386437 | H29: =tbl_AI[[#This Row],[% Change]]-tbl_AI[[#This Row],[S&P 500]] -> -1.2851354 | I29: =$F$52 -> 0.27724499 | J29: =tbl_AI[[#This Row],[% Change]]-tbl_AI[[#This Row],[TSX 60]] -> -0.85851599
A30: #VALUE! | B30: {=_FV(tbl_AI[[#This Row],[Company]],"Ticker symbol",TRUE)} -> TWLO | C30: 43819 | D30: 100.26 | E30: {=_FV(tbl_AI[[#This Row],[Company]],"Price")} -> 76.61 | F30: =(tbl_AI[[#This Row],[Price]]-tbl_AI[[#This Row],[Start Price]])/tbl_AI[[#This Row],[Start Price]] -> -0.23588669 | G30: =$F$51 -> 0.70386437 | H30: =tbl_AI[[#This Row],[% Change]]-tbl_AI[[#This Row],[S&P 500]] -> -0.93975107 | I30: =$F$52 -> 0.27724499 | J30: =tbl_AI[[#This Row],[% Change]]-tbl_AI[[#This Row],[TSX 60]] -> -0.51313168
A31: #VALUE! | B31: {=_FV(tbl_AI[[#This Row],[Company]],"Ticker symbol",TRUE)} -> MSFT | C31: 43766 | D31: 144.19 | E31: {=_FV(tbl_AI[[#This Row],[Company]],"Price")} -> 250.66 | F31: =(tbl_AI[[#This Row],[Price]]-tbl_AI[[#This Row],[Start Price]])/tbl_AI[[#This Row],[Start Price]] -> 0.73840072 | G31: =$F$51 -> 0.70386437 | H31: =tbl_AI[[#This Row],[% Change]]-tbl_AI[[#This Row],[S&P 500]] -> 0.034536351 | I31: =$F$52 -> 0.27724499 | J31: =tbl_AI[[#This Row],[% Change]]-tbl_AI[[#This Row],[TSX 60]] -> 0.46115573
A32: #VALUE! | B32: {=_FV(tbl_AI[[#This Row],[Company]],"Ticker symbol",TRUE)} -> ROKU | C32: 43704 | D32: 147.02 | E32: {=_FV(tbl_AI[[#This Row],[Company]],"Price")} -> 55.34 | F32: =(tbl_AI[[#This Row],[Price]]-tbl_AI[[#This Row],[Start Price]])/tbl_AI[[#This Row],[Start Price]] -> -0.62358863 | G32: =$F$51 -> 0.70386437 | H32: =tbl_AI[[#This Row],[% Change]]-tbl_AI[[#This Row],[S&P 500]] -> -1.327453 | I32: =$F$52 -> 0.27724499 | J32: =tbl_AI[[#This Row],[% Change]]-tbl_AI[[#This Row],[TSX 60]] -> -0.90083361
A33: #VALUE! | B33: {=_FV(tbl_AI[[#This Row],[Company]],"Ticker symbol",TRUE)} -> TWLO | C33: 43640 | D33: 138.41 | E33: {=_FV(tbl_AI[[#This Row],[Company]],"Price")} -> 76.61 | F33: =(tbl_AI[[#This Row],[Price]]-tbl_AI[[#This Row],[Start Price]])/tbl_AI[[#This Row],[Start Price]] -> -0.44649953 | G33: =$F$51 -> 0.70386437 | H33: =tbl_AI[[#This Row],[% Change]]-tbl_AI[[#This Row],[S&P 500]] -> -1.1503639 | I33: =$F$52 -> 0.27724499 | J33: =tbl_AI[[#This Row],[% Change]]-tbl_AI[[#This Row],[TSX 60]] -> -0.72374452
... A39: #VALUE! | B39: {=_FV(tbl_AI[[#This Row],[Company]],"Ticker symbol",TRUE)} -> ANET | C39: 42754 | D39: 89.72 | E39: {=_FV(tbl_AI[[#This Row],[Company]],"Price")} -> 112.63 | F39: =(tbl_AI[[#This Row],[Price]]-tbl_AI[[#This Row],[Start Price]])/tbl_AI[[#This Row],[Start Price]] -> 0.25534998 | G39: =$F$51 -> 0.70386437 | H39: =tbl_AI[[#This Row],[% Change]]-tbl_AI[[#This Row],[S&P 500]] -> -0.44851439 | I39: =$F$52 -> 0.27724499 | J39: =tbl_AI[[#This Row],[% Change]]-tbl_AI[[#This Row],[TSX 60]] -> -0.021895009
A40: #VALUE! | B40: {=_FV(tbl_AI[[#This Row],[Company]],"Ticker symbol",TRUE)} -> AMAT | C40: 42754 | D40: 33.75 | E40: {=_FV(tbl_AI[[#This Row],[Company]],"Price")} -> 87.53 | F40: =(tbl_AI[[#This Row],[Price]]-tbl_AI[[#This Row],[Start Price]])/tbl_AI[[#This Row],[Start Price]] -> 1.5934815 | G40: =$F$35 -> 0.87013783 | H40: =tbl_AI[[#This Row],[% Change]]-tbl_AI[[#This Row],[S&P 500]] -> 0.72334366 | I40: =$F$52 -> 0.27724499 | J40: =tbl_AI[[#This Row],[% Change]]-tbl_AI[[#This Row],[TSX 60]] -> 1.3162365
A41: #VALUE! | B41: {=_FV(tbl_AI[[#This Row],[Company]],"Ticker symbol",TRUE)} -> PANW | C41: 42754 | D41: 141.92 | E41: {=_FV(tbl_AI[[#This Row],[Company]],"Price")} -> 166.19 | F41: =(tbl_AI[[#This Row],[Price]]-tbl_AI[[#This Row],[Start Price]])/tbl_AI[[#This Row],[Start Price]] -> 0.17101184 | G41: =$F$51 -> 0.70386437 | H41: =tbl_AI[[#This Row],[% Change]]-tbl_AI[[#This Row],[S&P 500]] -> -0.53285253 | I41: =$F$52 -> 0.27724499 | J41: =tbl_AI[[#This Row],[% Change]]-tbl_AI[[#This Row],[TSX 60]] -> -0.10623315
A42: #VALUE! | B42: {=_FV(tbl_AI[[#This Row],[Company]],"Ticker symbol",TRUE)} -> GOOG | C42: 42754 | D42: 40.11 | E42: {=_FV(tbl_AI[[#This Row],[Company]],"Price")} -> 104.93 | F42: =(tbl_AI[[#This Row],[Price]]-tbl_AI[[#This Row],[Start Price]])/tbl_AI[[#This Row],[Start Price]] -> 1.6160558 | G42: =$F$51 -> 0.70386437 | H42: =tbl_AI[[#This Row],[% Change]]-tbl_AI[[#This Row],[S&P 500]] -> 0.91219148 | I42: =$F$52 -> 0.27724499 | J42: =tbl_AI[[#This Row],[% Change]]-tbl_AI[[#This Row],[TSX 60]] -> 1.3388109
A43: #VALUE! | B43: {=_FV(tbl_AI[[#This Row],[Company]],"Ticker symbol",TRUE)} -> AMZN | C43: 42754 | D43: 40.45 | E43: {=_FV(tbl_AI[[#This Row],[Company]],"Price")} -> 120.6 | F43: =(tbl_AI[[#This Row],[Price]]-tbl_AI[[#This Row],[Start Price]])/tbl_AI[[#This Row],[Start Price]] -> 1.9814586 | G43: =$F$51 -> 0.70386437 | H43: =tbl_AI[[#This Row],[% Change]]-tbl_AI[[#This Row],[S&P 500]] -> 1.2775942 | I43: =$F$52 -> 0.27724499 | J43: =tbl_AI[[#This Row],[% Change]]-tbl_AI[[#This Row],[TSX 60]] -> 1.7042136
A44: #VALUE! | B44: {=_FV(tbl_AI[[#This Row],[Company]],"Ticker symbol",TRUE)} -> BIDU | C44: 42754 | D44: 176.09 | E44: {=_FV(tbl_AI[[#This Row],[Company]],"Price")} -> 81.21 | F44: =(tbl_AI[[#This Row],[Price]]-tbl_AI[[#This Row],[Start Price]])/tbl_AI[[#This Row],[Start Price]] -> -0.53881538 | G44: =$F$51 -> 0.70386437 | H44: =tbl_AI[[#This Row],[% Change]]-tbl_AI[[#This Row],[S&P 500]] -> -1.2426797 | I44: =$F$52 -> 0.27724499 | J44: =tbl_AI[[#This Row],[% Change]]-tbl_AI[[#This Row],[TSX 60]] -> -0.81606037
A45: #VALUE! | B45: {=_FV(tbl_AI[[#This Row],[Company]],"Ticker symbol",TRUE)} -> SPLK | C45: 42754 | D45: 53.82 | E45: {=_FV(tbl_AI[[#This Row],[Company]],"Price")} -> 82.87 | F45: =(tbl_AI[[#This Row],[Price]]-tbl_AI[[#This Row],[Start Price]])/tbl_AI[[#This Row],[Start Price]] -> 0.53976217 | G45: =$F$51 -> 0.70386437 | H45: =tbl_AI[[#This Row],[% Change]]-tbl_AI[[#This Row],[S&P 500]] -> -0.1641022 | I45: =$F$52 -> 0.27724499 | J45: =tbl_AI[[#This Row],[% Change]]-tbl_AI[[#This Row],[TSX 60]] -> 0.26251718
A46: #VALUE! | B46: {=_FV(tbl_AI[[#This Row],[Company]],"Ticker symbol",TRUE)} -> NVDA | C46: 42754 | D46: 105.16 | E46: {=_FV(tbl_AI[[#This Row],[Company]],"Price")} -> 132.61 | F46: =(tbl_AI[[#This Row],[Price]]-tbl_AI[[#This Row],[Start Price]])/tbl_AI[[#This Row],[Start Price]] -> 0.26103081 | G46: =$F$51 -> 0.70386437 | H46: =tbl_AI[[#This Row],[% Change]]-tbl_AI[[#This Row],[S&P 500]] -> -0.44283356 | I46: =$F$52 -> 0.27724499 | J46: =tbl_AI[[#This Row],[% Change]]-tbl_AI[[#This Row],[TSX 60]] -> -0.016214177
A47: #VALUE! | B47: {=_FV(tbl_AI[[#This Row],[Company]],"Ticker symbol",TRUE)} -> ZG | C47: 42754 | D47: 37.13 | E47: {=_FV(tbl_AI[[#This Row],[Company]],"Price")} -> 31.29 | F47: =(tbl_AI[[#This Row],[Price]]-tbl_AI[[#This Row],[Start Price]])/tbl_AI[[#This Row],[Start Price]] -> -0.15728521 | G47: =$F$51 -> 0.70386437 | H47: =tbl_AI[[#This Row],[% Change]]-tbl_AI[[#This Row],[S&P 500]] -> -0.86114958 | I47: =$F$52 -> 0.27724499 | J47: =tbl_AI[[#This Row],[% Change]]-tbl_AI[[#This Row],[TSX 60]] -> -0.4345302
A48: #VALUE! | B48: {=_FV(tbl_AI[[#This Row],[Company]],"Ticker symbol",TRUE)} -> TTD | C48: 42754 | D48: 29 | E48: {=_FV(tbl_AI[[#This Row],[Company]],"Price")} -> 57.84 | F48: =(tbl_AI[[#This Row],[Price]]-tbl_AI[[#This Row],[Start Price]])/tbl_AI[[#This Row],[Start Price]] -> 0.99448276 | G48: =$F$51 -> 0.70386437 | H48: =tbl_AI[[#This Row],[% Change]]-tbl_AI[[#This Row],[S&P 500]] -> 0.29061839 | I48: =$F$52 -> 0.27724499 | J48: =tbl_AI[[#This Row],[% Change]]-tbl_AI[[#This Row],[TSX 60]] -> 0.71723777
A49: #VALUE! | B49: {=_FV(tbl_AI[[#This Row],[Company]],"Ticker symbol",TRUE)} -> CGNX | C49: 42754 | D49: 32.88 | E49: {=_FV(tbl_AI[[#This Row],[Company]],"Price")} -> 45.99 | F49: =(tbl_AI[[#This Row],[Price]]-tbl_AI[[#This Row],[Start Price]])/tbl_AI[[#This Row],[Start Price]] -> 0.39872263 | G49: =$F$51 -> 0.70386437 | H49: =tbl_AI[[#This Row],[% Change]]-tbl_AI[[#This Row],[S&P 500]] -> -0.30514174 | I49: =$F$52 -> 0.27724499 | J49: =tbl_AI[[#This Row],[% Change]]-tbl_AI[[#This Row],[TSX 60]] -> 0.12147764
A50: #VALUE! | B50: {=_FV(tbl_AI[[#This Row],[Company]],"Ticker symbol",TRUE)} -> BOX | C50: 42754 | D50: 17.02 | E50: {=_FV(tbl_AI[[#This Row],[Company]],"Price")} -> 28.71 | F50: =(tbl_AI[[#This Row],[Price]]-tbl_AI[[#This Row],[Start Price]])/tbl_AI[[#This Row],[Start Price]] -> 0.68683901 | G50: =$F$51 -> 0.70386437 | H50: =tbl_AI[[#This Row],[% Change]]-tbl_AI[[#This Row],[S&P 500]] -> -0.017025358 | I50: =$F$52 -> 0.27724499 | J50: =tbl_AI[[#This Row],[% Change]]-tbl_AI[[#This Row],[TSX 60]] -> 0.40959403
A51: #VALUE! | B51: {=_FV(tbl_AI[[#This Row],[Company]],"Ticker symbol",TRUE)} -> SPY | C51: 42754 | D51: 225.91 | E51: {=_FV(tbl_AI[[#This Row],[Company]],"Price")} -> 384.92 | F51: =(tbl_AI[[#This Row],[Price]]-tbl_AI[[#This Row],[Start Price]])/tbl_AI[[#This Row],[Start Price]] -> 0.70386437 | G51: =$F$51 -> 0.70386437 | H51: =tbl_AI[[#This Row],[% Change]]-tbl_AI[[#This Row],[S&P 500]] -> 0 | I51: =$F$52 -> 0.27724499 | J51: =tbl_AI[[#This Row],[% Change]]-tbl_AI[[#This Row],[TSX 60]] -> 0.42661938
A52: #VALUE! | B52: {=_FV(tbl_AI[[#This Row],[Company]],"Ticker symbol",TRUE)} -> XIU | C52: 42754 | D52: 22.94 | E52: {=_FV(tbl_AI[[#This Row],[Company]],"Price")} -> 29.3 | F52: =(tbl_AI[[#This Row],[Price]]-tbl_AI[[#This Row],[Start Price]])/tbl_AI[[#This Row],[Start Price]] -> 0.27724499 | G52: =$F$51 -> 0.70386437 | H52: =tbl_AI[[#This Row],[% Change]]-tbl_AI[[#This Row],[S&P 500]] -> -0.42661938 | I52: =$F$52 -> 0.27724499 | J52: =tbl_AI[[#This Row],[% Change]]-tbl_AI[[#This Row],[TSX 60]] -> 0
A54: Highest return | B54: =IFERROR(_xlfn.XLOOKUP(C54,F47:F50,B47:B50),"Check") -> TTD | C54: =MAX(F47:F50) -> 0.99448276
A55: Lowest return | B55: =IFERROR(_xlfn.XLOOKUP(C55,F47:F50,B47:B50),"Check") -> ZG | C55: =MIN(F47:F50) -> -0.15728521
A57: Sampler Average | B57: =AVERAGE(tbl_AI[% Change]) -> 0.30041216
A58: S&P 500 Average | B58: =AVERAGE(tbl_AI[S&P 500]) -> 0.70922803
A59: TSX 60 Average | B59: =AVERAGE(tbl_AI[TSX 60]) -> 0.27724499
A60: Sampler v S&P 500 | B60: =B57-B58 -> -0.40881587
A61: Sampler v TSX 60 | B61: =B57-B59 -> 0.02316717

Sheet CashlessSociety
A1: Stocks for a Cashless Society | H1: Return to Overall Stats
A20: Start date | B20: 43303
A21: Company | B21: Ticker symbol | C21: Start Price | D21: Price | E21: % Change | F21: S&P 500 | G21: V S&P 500 | H21: TSX 60 | I21: v TSX 60
A22: #VALUE! | B22: {=_FV(tbl_CashlessSociety[[#This Row],[Company]],"Ticker symbol",TRUE)} -> MA | C22: 202.94 | D22: {=_FV(tbl_CashlessSociety[[#This Row],[Company]],"Price")} -> 311.41 | E22: =(tbl_CashlessSociety[[#This Row],[Price]]-tbl_CashlessSociety[[#This Row],[Start Price]])/tbl_CashlessSociety[[#This Row],[Start Price]] -> 0.53449295 | F22: =$E$27 -> 0.3677777 | G22: =tbl_CashlessSociety[[#This Row],[% Change]]-tbl_CashlessSociety[[#This Row],[S&P 500]] -> 0.16671525 | H22: =$E$28 -> 0.19202604 | I22: =tbl_CashlessSociety[[#This Row],[% Change]]-tbl_CashlessSociety[[#This Row],[TSX 60]] -> 0.34246692
A23: #VALUE! | B23: {=_FV(tbl_CashlessSociety[[#This Row],[Company]],"Ticker symbol",TRUE)} -> V | C23: 140.71 | D23: {=_FV(tbl_CashlessSociety[[#This Row],[Company]],"Price")} -> 194.38 | E23: =(tbl_CashlessSociety[[#This Row],[Price]]-tbl_CashlessSociety[[#This Row],[Start Price]])/tbl_CashlessSociety[[#This Row],[Start Price]] -> 0.38142278 | F23: =$E$27 -> 0.3677777 | G23: =tbl_CashlessSociety[[#This Row],[% Change]]-tbl_CashlessSociety[[#This Row],[S&P 500]] -> 0.013645086 | H23: =$E$28 -> 0.19202604 | I23: =tbl_CashlessSociety[[#This Row],[% Change]]-tbl_CashlessSociety[[#This Row],[TSX 60]] -> 0.18939675
A24: #VALUE! | B24: {=_FV(tbl_CashlessSociety[[#This Row],[Company]],"Ticker symbol",TRUE)} -> PYPL | C24: 85.46 | D24: {=_FV(tbl_CashlessSociety[[#This Row],[Company]],"Price")} -> 89.24 | E24: =(tbl_CashlessSociety[[#This Row],[Price]]-tbl_CashlessSociety[[#This Row],[Start Price]])/tbl_CashlessSociety[[#This Row],[Start Price]] -> 0.044231219 | F24: =$E$27 -> 0.3677777 | G24: =tbl_CashlessSociety[[#This Row],[% Change]]-tbl_CashlessSociety[[#This Row],[S&P 500]] -> -0.32354648 | H24: =$E$28 -> 0.19202604 | I24: =tbl_CashlessSociety[[#This Row],[% Change]]-tbl_CashlessSociety[[#This Row],[TSX 60]] -> -0.14779482
A25: #VALUE! | B25: {=_FV(tbl_CashlessSociety[[#This Row],[Company]],"Ticker symbol",TRUE)} -> SQ | C25: 69.85 | D25: {=_FV(tbl_CashlessSociety[[#This Row],[Company]],"Price")} -> 59.66 | E25: =(tbl_CashlessSociety[[#This Row],[Price]]-tbl_CashlessSociety[[#This Row],[Start Price]])/tbl_CashlessSociety[[#This Row],[Start Price]] -> -0.14588404 | F25: =$E$27 -> 0.3677777 | G25: =tbl_CashlessSociety[[#This Row],[% Change]]-tbl_CashlessSociety[[#This Row],[S&P 500]] -> -0.51366174 | H25: =$E$28 -> 0.19202604 | I25: =tbl_CashlessSociety[[#This Row],[% Change]]-tbl_CashlessSociety[[#This Row],[TSX 60]] -> -0.33791007
A26: #VALUE! | B26: {=_FV(tbl_CashlessSociety[[#This Row],[Company]],"Ticker symbol",TRUE)} -> AAPL | C26: 47.74 | D26: {=_FV(tbl_CashlessSociety[[#This Row],[Company]],"Price")} -> 152.34 | E26: =(tbl_CashlessSociety[[#This Row],[Price]]-tbl_CashlessSociety[[#This Row],[Start Price]])/tbl_CashlessSociety[[#This Row],[Start Price]] -> 2.1910348 | F26: =$E$27 -> 0.3677777 | G26: =tbl_CashlessSociety[[#This Row],[% Change]]-tbl_CashlessSociety[[#This Row],[S&P 500]] -> 1.8232571 | H26: =$E$28 -> 0.19202604 | I26: =tbl_CashlessSociety[[#This Row],[% Change]]-tbl_CashlessSociety[[#This Row],[TSX 60]] -> 1.9990087
A27: #VALUE! | B27: {=_FV(tbl_CashlessSociety[[#This Row],[Company]],"Ticker symbol",TRUE)} -> SPY | C27: 281.42 | D27: {=_FV(tbl_CashlessSociety[[#This Row],[Company]],"Price")} -> 384.92 | E27: =(tbl_CashlessSociety[[#This Row],[Price]]-tbl_CashlessSociety[[#This Row],[Start Price]])/tbl_CashlessSociety[[#This Row],[Start Price]] -> 0.3677777 | F27: =$E$27 -> 0.3677777 | G27: =tbl_CashlessSociety[[#This Row],[% Change]]-tbl_CashlessSociety[[#This Row],[S&P 500]] -> 0 | H27: =$E$28 -> 0.19202604 | I27: =tbl_CashlessSociety[[#This Row],[% Change]]-tbl_CashlessSociety[[#This Row],[TSX 60]] -> 0.17575166
A28: #VALUE! | B28: {=_FV(tbl_CashlessSociety[[#This Row],[Company]],"Ticker symbol",TRUE)} -> XIU | C28: 24.58 | D28: {=_FV(tbl_CashlessSociety[[#This Row],[Company]],"Price")} -> 29.3 | E28: =(tbl_CashlessSociety[[#This Row],[Price]]-tbl_CashlessSociety[[#This Row],[Start Price]])/tbl_CashlessSociety[[#This Row],[Start Price]] -> 0.19202604 | F28: =$E$27 -> 0.3677777 | G28: =tbl_CashlessSociety[[#This Row],[% Change]]-tbl_CashlessSociety[[#This Row],[S&P 500]] -> -0.17575166 | H28: =$E$28 -> 0.19202604 | I28: =tbl_CashlessSociety[[#This Row],[% Change]]-tbl_CashlessSociety[[#This Row],[TSX 60]] -> 0
A30: Highest return | B30: =IFERROR(_xlfn.XLOOKUP(C30,E22:E26,B22:B26),"Check") -> AAPL | C30: =MAX(E22:E26) -> 2.1910348
A31: Lowest return | B31: =IFERROR(_xlfn.XLOOKUP(C31,E23:E27,B23:B27),"Check") -> SQ | C31: =MIN(E22:E26) -> -0.14588404
A33: Sampler Average | B33: =AVERAGE(tbl_CashlessSociety[% Change]) -> 0.5093002
A34: S&P 500 Average | B34: =AVERAGE(tbl_CashlessSociety[S&P 500]) -> 0.3677777
A35: TSX 60 Average | B35: =AVERAGE(tbl_CashlessSociety[TSX 60]) -> 0.19202604
A36: Sampler v S&P 500 | B36: =B33-B34 -> 0.14152251
A37: Sampler v TSX 60 | B37: =B33-B35 -> 0.31727417

Sheet DigitalRevolution
A1: Stocks for the Digital Revolution | H1: Return to Overall Stats
A20: Start date | B20: 43962
A21: Company | B21: Ticker symbol | C21: Start Price | D21: Price | E21: % Change | F21: S&P 500 | G21: V S&P 500 | H21: TSX 60 | I21: v TSX 60
A22: #VALUE! | B22: {=_FV(tbl_DigitalRevolution[[#This Row],[Company]],"Ticker symbol",TRUE)} -> DOCU | C22: 120.65 | D22: {=_FV(tbl_DigitalRevolution[[#This Row],[Company]],"Price")} -> 50.23 | E22: =(tbl_DigitalRevolution[[#This Row],[Price]]-tbl_DigitalRevolution[[#This Row],[Start Price]])/tbl_DigitalRevolution[[#This Row],[Start Price]] -> -0.58367178 | F22: =$E$27 -> 0.3677777 | G22: =tbl_DigitalRevolution[[#This Row],[% Change]]-tbl_DigitalRevolution[[#This Row],[S&P 500]] -> -0.95144948 | H22: =$E$28 -> 0.26347564 | I22: =tbl_DigitalRevolution[[#This Row],[% Change]]-tbl_DigitalRevolution[[#This Row],[TSX 60]] -> -0.84714741
A23: #VALUE! | B23: {=_FV(tbl_DigitalRevolution[[#This Row],[Company]],"Ticker symbol",TRUE)} -> TDOC | C23: 190.62 | D23: {=_FV(tbl_DigitalRevolution[[#This Row],[Company]],"Price")} -> 26.75 | E23: =(tbl_DigitalRevolution[[#This Row],[Price]]-tbl_DigitalRevolution[[#This Row],[Start Price]])/tbl_DigitalRevolution[[#This Row],[Start Price]] -> -0.85966845 | F23: =$E$27 -> 0.3677777 | G23: =tbl_DigitalRevolution[[#This Row],[% Change]]-tbl_DigitalRevolution[[#This Row],[S&P 500]] -> -1.2274461 | H23: =$E$28 -> 0.26347564 | I23: =tbl_DigitalRevolution[[#This Row],[% Change]]-tbl_DigitalRevolution[[#This Row],[TSX 60]] -> -1.1231441
A24: #VALUE! | B24: {=_FV(tbl_DigitalRevolution[[#This Row],[Company]],"Ticker symbol",TRUE)} -> ROKU | C24: 132.18 | D24: {=_FV(tbl_DigitalRevolution[[#This Row],[Company]],"Price")} -> 55.34 | E24: =(tbl_DigitalRevolution[[#This Row],[Price]]-tbl_DigitalRevolution[[#This Row],[Start Price]])/tbl_DigitalRevolution[[#This Row],[Start Price]] -> -0.58132849 | F24: =$E$27 -> 0.3677777 | G24: =tbl_DigitalRevolution[[#This Row],[% Change]]-tbl_DigitalRevolution[[#This Row],[S&P 500]] -> -0.94910619 | H24: =$E$28 -> 0.26347564 | I24: =tbl_DigitalRevolution[[#This Row],[% Change]]-tbl_DigitalRevolution[[#This Row],[TSX 60]] -> -0.84480413
A25: #VALUE! | B25: {=_FV(tbl_DigitalRevolution[[#This Row],[Company]],"Ticker symbol",TRUE)} -> TTD | C25: 305.33 | D25: {=_FV(tbl_DigitalRevolution[[#This Row],[Company]],"Price")} -> 57.84 | E25: =(tbl_DigitalRevolution[[#This Row],[Price]]-tbl_DigitalRevolution[[#This Row],[Start Price]])/tbl_DigitalRevolution[[#This Row],[Start Price]] -> -0.81056562 | F25: =$E$27 -> 0.3677777 | G25: =tbl_DigitalRevolution[[#This Row],[% Change]]-tbl_DigitalRevolution[[#This Row],[S&P 500]] -> -1.1783433 | H25: =$E$28 -> 0.26347564 | I25: =tbl_DigitalRevolution[[#This Row],[% Change]]-tbl_DigitalRevolution[[#This Row],[TSX 60]] -> -1.0740413
A26: #VALUE! | B26: {=_FV(tbl_DigitalRevolution[[#This Row],[Company]],"Ticker symbol",TRUE)} -> CRWD | C26: 76.23 | D26: {=_FV(tbl_DigitalRevolution[[#This Row],[Company]],"Price")} -> 162.11 | E26: =(tbl_DigitalRevolution[[#This Row],[Price]]-tbl_DigitalRevolution[[#This Row],[Start Price]])/tbl_DigitalRevolution[[#This Row],[Start Price]] -> 1.1265906 | F26: =$E$27 -> 0.3677777 | G26: =tbl_DigitalRevolution[[#This Row],[% Change]]-tbl_DigitalRevolution[[#This Row],[S&P 500]] -> 0.75881288 | H26: =$E$28 -> 0.26347564 | I26: =tbl_DigitalRevolution[[#This Row],[% Change]]-tbl_DigitalRevolution[[#This Row],[TSX 60]] -> 0.86311495
A27: #VALUE! | B27: {=_FV(tbl_DigitalRevolution[[#This Row],[Company]],"Ticker symbol",TRUE)} -> SPY | C27: 281.42 | D27: {=_FV(tbl_DigitalRevolution[[#This Row],[Company]],"Price")} -> 384.92 | E27: =(tbl_DigitalRevolution[[#This Row],[Price]]-tbl_DigitalRevolution[[#This Row],[Start Price]])/tbl_DigitalRevolution[[#This Row],[Start Price]] -> 0.3677777 | F27: =$E$27 -> 0.3677777 | G27: =tbl_DigitalRevolution[[#This Row],[% Change]]-tbl_DigitalRevolution[[#This Row],[S&P 500]] -> 0 | H27: =$E$28 -> 0.26347564 | I27: =tbl_DigitalRevolution[[#This Row],[% Change]]-tbl_DigitalRevolution[[#This Row],[TSX 60]] -> 0.10430206
A28: #VALUE! | B28: {=_FV(tbl_DigitalRevolution[[#This Row],[Company]],"Ticker symbol",TRUE)} -> XIU | C28: 23.19 | D28: {=_FV(tbl_DigitalRevolution[[#This Row],[Company]],"Price")} -> 29.3 | E28: =(tbl_DigitalRevolution[[#This Row],[Price]]-tbl_DigitalRevolution[[#This Row],[Start Price]])/tbl_DigitalRevolution[[#This Row],[Start Price]] -> 0.26347564 | F28: =$E$27 -> 0.3677777 | G28: =tbl_DigitalRevolution[[#This Row],[% Change]]-tbl_DigitalRevolution[[#This Row],[S&P 500]] -> -0.10430206 | H28: =$E$28 -> 0.26347564 | I28: =tbl_DigitalRevolution[[#This Row],[% Change]]-tbl_DigitalRevolution[[#This Row],[TSX 60]] -> 0
A30: Highest return | B30: =IFERROR(_xlfn.XLOOKUP(C30,E22:E26,B22:B26),"Check") -> CRWD | C30: =MAX(E22:E26) -> 1.1265906
A31: Lowest return | B31: =IFERROR(_xlfn.XLOOKUP(C31,E23:E27,B23:B27),"Check") -> TDOC | C31: =MIN(E22:E26) -> -0.85966845
A33: Sampler Average | B33: =AVERAGE(tbl_DigitalRevolution[% Change]) -> -0.15391292
A34: S&P 500 Average | B34: =AVERAGE(tbl_DigitalRevolution[S&P 500]) -> 0.3677777
A35: TSX 60 Average | B35: =AVERAGE(tbl_DigitalRevolution[TSX 60]) -> 0.26347564
A36: Sampler v S&P 500 | B36: =B33-B34 -> -0.52169062
A37: Sampler v TSX 60 | B37: =B33-B35 -> -0.41738855

Sheet CDNStarter
A1: Canadian Starter Stocks | H1: Return to Overall Stats
A20: Start date | B20: 44086
A21: Company | B21: Ticker symbol | C21: Start Price | D21: Price | E21: % Change | F21: S&P 500 | G21: V S&P 500 | H21: TSX 60 | I21: v TSX 60
A22: #VALUE! | B22: {=_FV(tbl_CDNStarter[[#This Row],[Company]],"Ticker symbol",TRUE)} -> CNR | C22: 139.09 | D22: {=_FV(tbl_CDNStarter[[#This Row],[Company]],"Price")} -> 157.25 | E22: =(tbl_CDNStarter[[#This Row],[Price]]-tbl_CDNStarter[[#This Row],[Start Price]])/tbl_CDNStarter[[#This Row],[Start Price]] -> 0.13056294 | F22: =$E$27 -> 0.1522481 | G22: =tbl_CDNStarter[[#This Row],[% Change]]-tbl_CDNStarter[[#This Row],[S&P 500]] -> -0.021685154 | H22: =$E$28 -> 0.19591837 | I22: =tbl_CDNStarter[[#This Row],[% Change]]-tbl_CDNStarter[[#This Row],[TSX 60]] -> -0.065355422
A23: #VALUE! | B23: {=_FV(tbl_CDNStarter[[#This Row],[Company]],"Ticker symbol",TRUE)} -> RY | C23: 97.18 | D23: {=_FV(tbl_CDNStarter[[#This Row],[Company]],"Price")} -> 123.88 | E23: =(tbl_CDNStarter[[#This Row],[Price]]-tbl_CDNStarter[[#This Row],[Start Price]])/tbl_CDNStarter[[#This Row],[Start Price]] -> 0.27474789 | F23: =$E$27 -> 0.1522481 | G23: =tbl_CDNStarter[[#This Row],[% Change]]-tbl_CDNStarter[[#This Row],[S&P 500]] -> 0.12249979 | H23: =$E$28 -> 0.19591837 | I23: =tbl_CDNStarter[[#This Row],[% Change]]-tbl_CDNStarter[[#This Row],[TSX 60]] -> 0.078829523
A24: #VALUE! | B24: {=_FV(tbl_CDNStarter[[#This Row],[Company]],"Ticker symbol",TRUE)} -> BAM.A | C24: 43.55 | D24: {=_FV(tbl_CDNStarter[[#This Row],[Company]],"Price")} -> 53.36 | E24: =(tbl_CDNStarter[[#This Row],[Price]]-tbl_CDNStarter[[#This Row],[Start Price]])/tbl_CDNStarter[[#This Row],[Start Price]] -> 0.22525832 | F24: =$E$27 -> 0.1522481 | G24: =tbl_CDNStarter[[#This Row],[% Change]]-tbl_CDNStarter[[#This Row],[S&P 500]] -> 0.073010225 | H24: =$E$28 -> 0.19591837 | I24: =tbl_CDNStarter[[#This Row],[% Change]]-tbl_CDNStarter[[#This Row],[TSX 60]] -> 0.029339956
A25: #VALUE! | B25: {=_FV(tbl_CDNStarter[[#This Row],[Company]],"Ticker symbol",TRUE)} -> FTS | C25: 53.11 | D25: {=_FV(tbl_CDNStarter[[#This Row],[Company]],"Price")} -> 51.84 | E25: =(tbl_CDNStarter[[#This Row],[Price]]-tbl_CDNStarter[[#This Row],[Start Price]])/tbl_CDNStarter[[#This Row],[Start Price]] -> -0.023912634 | F25: =$E$27 -> 0.1522481 | G25: =tbl_CDNStarter[[#This Row],[% Change]]-tbl_CDNStarter[[#This Row],[S&P 500]] -> -0.17616073 | H25: =$E$28 -> 0.19591837 | I25: =tbl_CDNStarter[[#This Row],[% Change]]-tbl_CDNStarter[[#This Row],[TSX 60]] -> -0.219831
A26: #VALUE! | B26: {=_FV(tbl_CDNStarter[[#This Row],[Company]],"Ticker symbol",TRUE)} -> SHOP | C26: 120.75 | D26: {=_FV(tbl_CDNStarter[[#This Row],[Company]],"Price")} -> 40.63 | E26: =(tbl_CDNStarter[[#This Row],[Price]]-tbl_CDNStarter[[#This Row],[Start Price]])/tbl_CDNStarter[[#This Row],[Start Price]] -> -0.66351967 | F26: =$E$27 -> 0.1522481 | G26: =tbl_CDNStarter[[#This Row],[% Change]]-tbl_CDNStarter[[#This Row],[S&P 500]] -> -0.81576777 | H26: =$E$28 -> 0.19591837 | I26: =tbl_CDNStarter[[#This Row],[% Change]]-tbl_CDNStarter[[#This Row],[TSX 60]] -> -0.85943804
A27: #VALUE! | B27: {=_FV(tbl_CDNStarter[[#This Row],[Company]],"Ticker symbol",TRUE)} -> SPY | C27: 334.06 | D27: {=_FV(tbl_CDNStarter[[#This Row],[Company]],"Price")} -> 384.92 | E27: =(tbl_CDNStarter[[#This Row],[Price]]-tbl_CDNStarter[[#This Row],[Start Price]])/tbl_CDNStarter[[#This Row],[Start Price]] -> 0.1522481 | F27: =$E$27 -> 0.1522481 | G27: =tbl_CDNStarter[[#This Row],[% Change]]-tbl_CDNStarter[[#This Row],[S&P 500]] -> 0 | H27: =$E$28 -> 0.19591837 | I27: =tbl_CDNStarter[[#This Row],[% Change]]-tbl_CDNStarter[[#This Row],[TSX 60]] -> -0.043670268
A28: #VALUE! | B28: {=_FV(tbl_CDNStarter[[#This Row],[Company]],"Ticker symbol",TRUE)} -> XIU | C28: 24.5 | D28: {=_FV(tbl_CDNStarter[[#This Row],[Company]],"Price")} -> 29.3 | E28: =(tbl_CDNStarter[[#This Row],[Price]]-tbl_CDNStarter[[#This Row],[Start Price]])/tbl_CDNStarter[[#This Row],[Start Price]] -> 0.19591837 | F28: =$E$27 -> 0.1522481 | G28: =tbl_CDNStarter[[#This Row],[% Change]]-tbl_CDNStarter[[#This Row],[S&P 500]] -> 0.043670268 | H28: =$E$28 -> 0.19591837 | I28: =tbl_CDNStarter[[#This Row],[% Change]]-tbl_CDNStarter[[#This Row],[TSX 60]] -> 0
A30: Highest return | B30: =IFERROR(_xlfn.XLOOKUP(C30,E22:E26,B22:B26),"Check") -> RY | C30: =MAX(E22:E26) -> 0.27474789
A31: Lowest return | B31: =IFERROR(_xlfn.XLOOKUP(C31,E22:E26,B22:B26),"Check") -> SHOP | C31: =MIN(E22:E26) -> -0.66351967
A33: Sampler Average | B33: =AVERAGE(tbl_CDNStarter[% Change]) -> 0.04161476
A34: S&P 500 Average | B34: =AVERAGE(tbl_CDNStarter[S&P 500]) -> 0.1522481
A35: TSX 60 Average | B35: =AVERAGE(tbl_CDNStarter[TSX 60]) -> 0.19591837
A36: Sampler v S&P 500 | B36: =B33-B34 -> -0.11063334
A37: Sampler v TSX 60 | B37: =B33-B35 -> -0.15430361

Sheet GoneToTheAnimals
A1: Stocks for Pets | H1: Return to Overall Stats
A20: Start date | B20: 44169
A21: Company | B21: Ticker symbol | C21: Start Price | D21: Price | E21: % Change | F21: S&P 500 | G21: V S&P 500 | H21: TSX 60 | I21: v TSX 60
A22: #VALUE! | B22: {=_FV(tbl_GoneToTheAnimals[[#This Row],[Company]],"Ticker symbol",TRUE)} -> IDXX | C22: 457.15 | D22: {=_FV(tbl_GoneToTheAnimals[[#This Row],[Company]],"Price")} -> 352.35 | E22: =(tbl_GoneToTheAnimals[[#This Row],[Price]]-tbl_GoneToTheAnimals[[#This Row],[Start Price]])/tbl_GoneToTheAnimals[[#This Row],[Start Price]] -> -0.22924642 | F22: =$E$29 -> 0.040943264 | G22: =tbl_GoneToTheAnimals[[#This Row],[% Change]]-tbl_GoneToTheAnimals[[#This Row],[S&P 500]] -> -0.27018968 | H22: =$E$30 -> 0.11704156 | I22: =tbl_GoneToTheAnimals[[#This Row],[% Change]]-tbl_GoneToTheAnimals[[#This Row],[TSX 60]] -> -0.34628797
A23: #VALUE! | B23: {=_FV(tbl_GoneToTheAnimals[[#This Row],[Company]],"Ticker symbol",TRUE)} -> CHWY | C23: 74.94 | D23: {=_FV(tbl_GoneToTheAnimals[[#This Row],[Company]],"Price")} -> 39.79 | E23: =(tbl_GoneToTheAnimals[[#This Row],[Price]]-tbl_GoneToTheAnimals[[#This Row],[Start Price]])/tbl_GoneToTheAnimals[[#This Row],[Start Price]] -> -0.4690419 | F23: =$E$29 -> 0.040943264 | G23: =tbl_GoneToTheAnimals[[#This Row],[% Change]]-tbl_GoneToTheAnimals[[#This Row],[S&P 500]] -> -0.50998516 | H23: =$E$30 -> 0.11704156 | I23: =tbl_GoneToTheAnimals[[#This Row],[% Change]]-tbl_GoneToTheAnimals[[#This Row],[TSX 60]] -> -0.58608346
A24: #VALUE! | B24: {=_FV(tbl_GoneToTheAnimals[[#This Row],[Company]],"Ticker symbol",TRUE)} -> LMND | C24: 85.04 | D24: {=_FV(tbl_GoneToTheAnimals[[#This Row],[Company]],"Price")} -> 23.22 | E24: =(tbl_GoneToTheAnimals[[#This Row],[Price]]-tbl_GoneToTheAnimals[[#This Row],[Start Price]])/tbl_GoneToTheAnimals[[#This Row],[Start Price]] -> -0.72695202 | F24: =$E$29 -> 0.040943264 | G24: =tbl_GoneToTheAnimals[[#This Row],[% Change]]-tbl_GoneToTheAnimals[[#This Row],[S&P 500]] -> -0.76789529 | H24: =$E$30 -> 0.11704156 | I24: =tbl_GoneToTheAnimals[[#This Row],[% Change]]-tbl_GoneToTheAnimals[[#This Row],[TSX 60]] -> -0.84399358
A25: #VALUE! | B25: {=_FV(tbl_GoneToTheAnimals[[#This Row],[Company]],"Ticker symbol",TRUE)} -> FRPT | C25: 134.98 | D25: {=_FV(tbl_GoneToTheAnimals[[#This Row],[Company]],"Price")} -> 57.68 | E25: =(tbl_GoneToTheAnimals[[#This Row],[Price]]-tbl_GoneToTheAnimals[[#This Row],[Start Price]])/tbl_GoneToTheAnimals[[#This Row],[Start Price]] -> -0.57267743 | F25: =$E$29 -> 0.040943264 | G25: =tbl_GoneToTheAnimals[[#This Row],[% Change]]-tbl_GoneToTheAnimals[[#This Row],[S&P 500]] -> -0.6136207 | H25: =$E$30 -> 0.11704156 | I25: =tbl_GoneToTheAnimals[[#This Row],[% Change]]-tbl_GoneToTheAnimals[[#This Row],[TSX 60]] -> -0.68971899
A26: #VALUE! | B26: {=_FV(tbl_GoneToTheAnimals[[#This Row],[Company]],"Ticker symbol",TRUE)} -> CENT | C26: 38.69 | D26: {=_FV(tbl_GoneToTheAnimals[[#This Row],[Company]],"Price")} -> 40.02 | E26: =(tbl_GoneToTheAnimals[[#This Row],[Price]]-tbl_GoneToTheAnimals[[#This Row],[Start Price]])/tbl_GoneToTheAnimals[[#This Row],[Start Price]] -> 0.034375808 | F26: =$E$29 -> 0.040943264 | G26: =tbl_GoneToTheAnimals[[#This Row],[% Change]]-tbl_GoneToTheAnimals[[#This Row],[S&P 500]] -> -0.0065674559 | H26: =$E$30 -> 0.11704156 | I26: =tbl_GoneToTheAnimals[[#This Row],[% Change]]-tbl_GoneToTheAnimals[[#This Row],[TSX 60]] -> -0.082665748
A27: #VALUE! | B27: {=_FV(tbl_GoneToTheAnimals[[#This Row],[Company]],"Ticker symbol",TRUE)} -> TRUP | C27: 95.9 | D27: {=_FV(tbl_GoneToTheAnimals[[#This Row],[Company]],"Price")} -> 50.43 | E27: =(tbl_GoneToTheAnimals[[#This Row],[Price]]-tbl_GoneToTheAnimals[[#This Row],[Start Price]])/tbl_GoneToTheAnimals[[#This Row],[Start Price]] -> -0.47413973 | F27: =$E$29 -> 0.040943264 | G27: =tbl_GoneToTheAnimals[[#This Row],[% Change]]-tbl_GoneToTheAnimals[[#This Row],[S&P 500]] -> -0.51508299 | H27: =$E$30 -> 0.11704156 | I27: =tbl_GoneToTheAnimals[[#This Row],[% Change]]-tbl_GoneToTheAnimals[[#This Row],[TSX 60]] -> -0.59118128
A28: #VALUE! | B28: {=_FV(tbl_GoneToTheAnimals[[#This Row],[Company]],"Ticker symbol",TRUE)} -> BARK | C28: 14.05 | D28: {=_FV(tbl_GoneToTheAnimals[[#This Row],[Company]],"Price")} -> 1.75 | E28: =(tbl_GoneToTheAnimals[[#This Row],[Price]]-tbl_GoneToTheAnimals[[#This Row],[Start Price]])/tbl_GoneToTheAnimals[[#This Row],[Start Price]] -> -0.87544484 | F28: =$E$29 -> 0.040943264 | G28: =tbl_GoneToTheAnimals[[#This Row],[% Change]]-tbl_GoneToTheAnimals[[#This Row],[S&P 500]] -> -0.9163881 | H28: =$E$30 -> 0.11704156 | I28: =tbl_GoneToTheAnimals[[#This Row],[% Change]]-tbl_GoneToTheAnimals[[#This Row],[TSX 60]] -> -0.9924864
A29: #VALUE! | B29: {=_FV(tbl_GoneToTheAnimals[[#This Row],[Company]],"Ticker symbol",TRUE)} -> SPY | C29: 369.78 | D29: {=_FV(tbl_GoneToTheAnimals[[#This Row],[Company]],"Price")} -> 384.92 | E29: =(tbl_GoneToTheAnimals[[#This Row],[Price]]-tbl_GoneToTheAnimals[[#This Row],[Start Price]])/tbl_GoneToTheAnimals[[#This Row],[Start Price]] -> 0.040943264 | F29: =$E$29 -> 0.040943264 | G29: =tbl_GoneToTheAnimals[[#This Row],[% Change]]-tbl_GoneToTheAnimals[[#This Row],[S&P 500]] -> 0 | H29: =$E$30 -> 0.11704156 | I29: =tbl_GoneToTheAnimals[[#This Row],[% Change]]-tbl_GoneToTheAnimals[[#This Row],[TSX 60]] -> -0.076098292
A30: #VALUE! | B30: {=_FV(tbl_GoneToTheAnimals[[#This Row],[Company]],"Ticker symbol",TRUE)} -> XIU | C30: 26.23 | D30: {=_FV(tbl_GoneToTheAnimals[[#This Row],[Company]],"Price")} -> 29.3 | E30: =(tbl_GoneToTheAnimals[[#This Row],[Price]]-tbl_GoneToTheAnimals[[#This Row],[Start Price]])/tbl_GoneToTheAnimals[[#This Row],[Start Price]] -> 0.11704156 | F30: =$E$29 -> 0.040943264 | G30: =tbl_GoneToTheAnimals[[#This Row],[% Change]]-tbl_GoneToTheAnimals[[#This Row],[S&P 500]] -> 0.076098292 | H30: =$E$30 -> 0.11704156 | I30: =tbl_GoneToTheAnimals[[#This Row],[% Change]]-tbl_GoneToTheAnimals[[#This Row],[TSX 60]] -> 0
A32: Highest return | B32: =IFERROR(_xlfn.XLOOKUP(C32,E22:E26,B22:B26),"Check") -> CENT | C32: =MAX(E22:E28) -> 0.034375808
A33: Lowest return | B33: =IFERROR(_xlfn.XLOOKUP(C33,E22:E28,B22:B28),"Check") -> BARK | C33: =MIN(E22:E28) -> -0.87544484
A35: Sampler Average | B35: =AVERAGE(tbl_GoneToTheAnimals[% Change]) -> -0.3505713
A36: S&P 500 Average | B36: =AVERAGE(tbl_GoneToTheAnimals[S&P 500]) -> 0.040943264
A37: TSX 60 Average | B37: =AVERAGE(tbl_GoneToTheAnimals[TSX 60]) -> 0.11704156
A38: Sampler v S&P 500 | B38: =B35-B36 -> -0.39151457
A39: Sampler v TSX 60 | B39: =B35-B37 -> -0.46761286

Sheet CdnTechs
A1: Canadian Tech Stocks | H1: Return to Overall Stats
A20: Start date | B20: 44175
A21: Company | B21: Ticker symbol | C21: Start Price | D21: Price | E21: % Change | F21: S&P 500 | G21: V S&P 500 | H21: TSX 60 | I21: v TSX 60
A22: #VALUE! | B22: {=_FV(tbl_CdnTechs[[#This Row],[Company]],"Ticker symbol",TRUE)} -> NVEI | C22: 63.43 | D22: {=_FV(tbl_CdnTechs[[#This Row],[Company]],"Price")} -> 39.8 | E22: =(tbl_CdnTechs[[#This Row],[Price]]-tbl_CdnTechs[[#This Row],[Start Price]])/tbl_CdnTechs[[#This Row],[Start Price]] -> -0.37253665 | F22: =$E$30 -> 0.049600524 | G22: =tbl_CdnTechs[[#This Row],[% Change]]-tbl_CdnTechs[[#This Row],[S&P 500]] -> -0.42213718 | H22: =$E$31 -> 0.10900833 | I22: =tbl_CdnTechs[[#This Row],[% Change]]-tbl_CdnTechs[[#This Row],[TSX 60]] -> -0.48154498
A23: #VALUE! | B23: {=_FV(tbl_CdnTechs[[#This Row],[Company]],"Ticker symbol",TRUE)} -> DCBO | C23: 62.53 | D23: {=_FV(tbl_CdnTechs[[#This Row],[Company]],"Price")} -> 40.35 | E23: =(tbl_CdnTechs[[#This Row],[Price]]-tbl_CdnTechs[[#This Row],[Start Price]])/tbl_CdnTechs[[#This Row],[Start Price]] -> -0.35470974 | F23: =$E$30 -> 0.049600524 | G23: =tbl_CdnTechs[[#This Row],[% Change]]-tbl_CdnTechs[[#This Row],[S&P 500]] -> -0.40431026 | H23: =$E$31 -> 0.10900833 | I23: =tbl_CdnTechs[[#This Row],[% Change]]-tbl_CdnTechs[[#This Row],[TSX 60]] -> -0.46371807
A24: #VALUE! | B24: {=_FV(tbl_CdnTechs[[#This Row],[Company]],"Ticker symbol",TRUE)} -> DND | C24: 42.94 | D24: {=_FV(tbl_CdnTechs[[#This Row],[Company]],"Price")} -> 16.09 | E24: =(tbl_CdnTechs[[#This Row],[Price]]-tbl_CdnTechs[[#This Row],[Start Price]])/tbl_CdnTechs[[#This Row],[Start Price]] -> -0.6252911 | F24: =$E$30 -> 0.049600524 | G24: =tbl_CdnTechs[[#This Row],[% Change]]-tbl_CdnTechs[[#This Row],[S&P 500]] -> -0.67489163 | H24: =$E$31 -> 0.10900833 | I24: =tbl_CdnTechs[[#This Row],[% Change]]-tbl_CdnTechs[[#This Row],[TSX 60]] -> -0.73429943
A25: #VALUE! | B25: {=_FV(tbl_CdnTechs[[#This Row],[Company]],"Ticker symbol",TRUE)} -> LSPD | C25: 74.35 | D25: {=_FV(tbl_CdnTechs[[#This Row],[Company]],"Price")} -> 25.23 | E25: =(tbl_CdnTechs[[#This Row],[Price]]-tbl_CdnTechs[[#This Row],[Start Price]])/tbl_CdnTechs[[#This Row],[Start Price]] -> -0.66065905 | F25: =$E$30 -> 0.049600524 | G25: =tbl_CdnTechs[[#This Row],[% Change]]-tbl_CdnTechs[[#This Row],[S&P 500]] -> -0.71025957 | H25: =$E$31 -> 0.10900833 | I25: =tbl_CdnTechs[[#This Row],[% Change]]-tbl_CdnTechs[[#This Row],[TSX 60]] -> -0.76966737
A26: #VALUE! | B26: {=_FV(tbl_CdnTechs[[#This Row],[Company]],"Ticker symbol",TRUE)} -> ENGH | C26: 63.83 | D26: {=_FV(tbl_CdnTechs[[#This Row],[Company]],"Price")} -> 29.56 | E26: =(tbl_CdnTechs[[#This Row],[Price]]-tbl_CdnTechs[[#This Row],[Start Price]])/tbl_CdnTechs[[#This Row],[Start Price]] -> -0.53689488 | F26: =$E$30 -> 0.049600524 | G26: =tbl_CdnTechs[[#This Row],[% Change]]-tbl_CdnTechs[[#This Row],[S&P 500]] -> -0.5864954 | H26: =$E$31 -> 0.10900833 | I26: =tbl_CdnTechs[[#This Row],[% Change]]-tbl_CdnTechs[[#This Row],[TSX 60]] -> -0.6459032
A27: #VALUE! | B27: {=_FV(tbl_CdnTechs[[#This Row],[Company]],"Ticker symbol",TRUE)} -> KXS | C27: 175 | D27: {=_FV(tbl_CdnTechs[[#This Row],[Company]],"Price")} -> 142.05 | E27: =(tbl_CdnTechs[[#This Row],[Price]]-tbl_CdnTechs[[#This Row],[Start Price]])/tbl_CdnTechs[[#This Row],[Start Price]] -> -0.18828571 | F27: =$E$30 -> 0.049600524 | G27: =tbl_CdnTechs[[#This Row],[% Change]]-tbl_CdnTechs[[#This Row],[S&P 500]] -> -0.23788624 | H27: =$E$31 -> 0.10900833 | I27: =tbl_CdnTechs[[#This Row],[% Change]]-tbl_CdnTechs[[#This Row],[TSX 60]] -> -0.29729404
A28: #VALUE! | B28: {=_FV(tbl_CdnTechs[[#This Row],[Company]],"Ticker symbol",TRUE)} -> CSU | C28: 1652.9 | D28: {=_FV(tbl_CdnTechs[[#This Row],[Company]],"Price")} -> 1949.41 | E28: =(tbl_CdnTechs[[#This Row],[Price]]-tbl_CdnTechs[[#This Row],[Start Price]])/tbl_CdnTechs[[#This Row],[Start Price]] -> 0.17938774 | F28: =$E$30 -> 0.049600524 | G28: =tbl_CdnTechs[[#This Row],[% Change]]-tbl_CdnTechs[[#This Row],[S&P 500]] -> 0.12978722 | H28: =$E$31 -> 0.10900833 | I28: =tbl_CdnTechs[[#This Row],[% Change]]-tbl_CdnTechs[[#This Row],[TSX 60]] -> 0.070379416
A29: #VALUE! | B29: {=_FV(tbl_CdnTechs[[#This Row],[Company]],"Ticker symbol",TRUE)} -> SHOP | C29: 135.99 | D29: {=_FV(tbl_CdnTechs[[#This Row],[Company]],"Price")} -> 40.63 | E29: =(tbl_CdnTechs[[#This Row],[Price]]-tbl_CdnTechs[[#This Row],[Start Price]])/tbl_CdnTechs[[#This Row],[Start Price]] -> -0.70122803 | F29: =$E$30 -> 0.049600524 | G29: =tbl_CdnTechs[[#This Row],[% Change]]-tbl_CdnTechs[[#This Row],[S&P 500]] -> -0.75082856 | H29: =$E$31 -> 0.10900833 | I29: =tbl_CdnTechs[[#This Row],[% Change]]-tbl_CdnTechs[[#This Row],[TSX 60]] -> -0.81023636
A30: #VALUE! | B30: {=_FV(tbl_CdnTechs[[#This Row],[Company]],"Ticker symbol",TRUE)} -> SPY | C30: 366.73 | D30: {=_FV(tbl_CdnTechs[[#This Row],[Company]],"Price")} -> 384.92 | E30: =(tbl_CdnTechs[[#This Row],[Price]]-tbl_CdnTechs[[#This Row],[Start Price]])/tbl_CdnTechs[[#This Row],[Start Price]] -> 0.049600524 | F30: =$E$30 -> 0.049600524 | G30: =tbl_CdnTechs[[#This Row],[% Change]]-tbl_CdnTechs[[#This Row],[S&P 500]] -> 0 | H30: =$E$31 -> 0.10900833 | I30: =tbl_CdnTechs[[#This Row],[% Change]]-tbl_CdnTechs[[#This Row],[TSX 60]] -> -0.059407803
A31: #VALUE! | B31: {=_FV(tbl_CdnTechs[[#This Row],[Company]],"Ticker symbol",TRUE)} -> XIU | C31: 26.42 | D31: {=_FV(tbl_CdnTechs[[#This Row],[Company]],"Price")} -> 29.3 | E31: =(tbl_CdnTechs[[#This Row],[Price]]-tbl_CdnTechs[[#This Row],[Start Price]])/tbl_CdnTechs[[#This Row],[Start Price]] -> 0.10900833 | F31: =$E$30 -> 0.049600524 | G31: =tbl_CdnTechs[[#This Row],[% Change]]-tbl_CdnTechs[[#This Row],[S&P 500]] -> 0.059407803 | H31: =$E$31 -> 0.10900833 | I31: =tbl_CdnTechs[[#This Row],[% Change]]-tbl_CdnTechs[[#This Row],[TSX 60]] -> 0
A33: Highest return | B33: =IFERROR(_xlfn.XLOOKUP(C33,E22:E29,B22:B29),"Check") -> CSU | C33: =MAX(E24:E29) -> 0.17938774
A34: Lowest return | B34: =IFERROR(_xlfn.XLOOKUP(C34,E24:E29,B24:B29),"Check") -> SHOP | C34: =MIN(E24:E29) -> -0.70122803
A36: Sampler Average | B36: =AVERAGE(tbl_CdnTechs[% Change]) -> -0.31016086
A37: S&P 500 Average | B37: =AVERAGE(tbl_CdnTechs[S&P 500]) -> 0.049600524
A38: Sampler v S&P 500 | B38: =B36-B37 -> -0.35976138
A39: TSX 60 Average | B39: =AVERAGE(tbl_CdnTechs[TSX 60]) -> 0.10900833
A40: Sampler v TSX 60 | B40: =B36-B39 -> -0.41916918

Sheet GreenRevolution
A1: Stocks for the Green Revolution | H1: Return to Overall Stats
A20: Start date | B20: 44208
A21: Company | B21: Ticker symbol | C21: Start Price | D21: Price | E21: % Change | F21: S&P 500 | G21: V S&P 500 | H21: TSX 60 | I21: v TSX 60
A22: #VALUE! | B22: {=_FV(tbl_GreenRevolution[[#This Row],[Company]],"Ticker symbol",TRUE)} -> RUN | C22: 93.44 | D22: {=_FV(tbl_GreenRevolution[[#This Row],[Company]],"Price")} -> 21.14 | E22: =(tbl_GreenRevolution[[#This Row],[Price]]-tbl_GreenRevolution[[#This Row],[Start Price]])/tbl_GreenRevolution[[#This Row],[Start Price]] -> -0.77375856 | F22: =$E$27 -> 0.016236766 | G22: =tbl_GreenRevolution[[#This Row],[% Change]]-tbl_GreenRevolution[[#This Row],[S&P 500]] -> -0.78999533 | H22: =$E$28 -> 0.084381939 | I22: =tbl_GreenRevolution[[#This Row],[% Change]]-tbl_GreenRevolution[[#This Row],[TSX 60]] -> -0.8581405
A23: #VALUE! | B23: {=_FV(tbl_GreenRevolution[[#This Row],[Company]],"Ticker symbol",TRUE)} -> BLNK | C23: 52.31 | D23: {=_FV(tbl_GreenRevolution[[#This Row],[Company]],"Price")} -> 14.55 | E23: =(tbl_GreenRevolution[[#This Row],[Price]]-tbl_GreenRevolution[[#This Row],[Start Price]])/tbl_GreenRevolution[[#This Row],[Start Price]] -> -0.72185051 | F23: =$E$27 -> 0.016236766 | G23: =tbl_GreenRevolution[[#This Row],[% Change]]-tbl_GreenRevolution[[#This Row],[S&P 500]] -> -0.73808727 | H23: =$E$28 -> 0.084381939 | I23: =tbl_GreenRevolution[[#This Row],[% Change]]-tbl_GreenRevolution[[#This Row],[TSX 60]] -> -0.80623245
A24: #VALUE! | B24: {=_FV(tbl_GreenRevolution[[#This Row],[Company]],"Ticker symbol",TRUE)} -> PLUG | C24: 66.02 | D24: {=_FV(tbl_GreenRevolution[[#This Row],[Company]],"Price")} -> 16.57 | E24: =(tbl_GreenRevolution[[#This Row],[Price]]-tbl_GreenRevolution[[#This Row],[Start Price]])/tbl_GreenRevolution[[#This Row],[Start Price]] -> -0.74901545 | F24: =$E$27 -> 0.016236766 | G24: =tbl_GreenRevolution[[#This Row],[% Change]]-tbl_GreenRevolution[[#This Row],[S&P 500]] -> -0.76525222 | H24: =$E$28 -> 0.084381939 | I24: =tbl_GreenRevolution[[#This Row],[% Change]]-tbl_GreenRevolution[[#This Row],[TSX 60]] -> -0.83339739
A25: #VALUE! | B25: {=_FV(tbl_GreenRevolution[[#This Row],[Company]],"Ticker symbol",TRUE)} -> ENPH | C25: 206.49 | D25: {=_FV(tbl_GreenRevolution[[#This Row],[Company]],"Price")} -> 265.59 | E25: =(tbl_GreenRevolution[[#This Row],[Price]]-tbl_GreenRevolution[[#This Row],[Start Price]])/tbl_GreenRevolution[[#This Row],[Start Price]] -> 0.28621241 | F25: =$E$27 -> 0.016236766 | G25: =tbl_GreenRevolution[[#This Row],[% Change]]-tbl_GreenRevolution[[#This Row],[S&P 500]] -> 0.26997564 | H25: =$E$28 -> 0.084381939 | I25: =tbl_GreenRevolution[[#This Row],[% Change]]-tbl_GreenRevolution[[#This Row],[TSX 60]] -> 0.20183047
A26: #VALUE! | B26: {=_FV(tbl_GreenRevolution[[#This Row],[Company]],"Ticker symbol",TRUE)} -> BLX | C26: 55.59 | D26: {=_FV(tbl_GreenRevolution[[#This Row],[Company]],"Price")} -> 36.99 | E26: =(tbl_GreenRevolution[[#This Row],[Price]]-tbl_GreenRevolution[[#This Row],[Start Price]])/tbl_GreenRevolution[[#This Row],[Start Price]] -> -0.33459255 | F26: =$E$27 -> 0.016236766 | G26: =tbl_GreenRevolution[[#This Row],[% Change]]-tbl_GreenRevolution[[#This Row],[S&P 500]] -> -0.35082932 | H26: =$E$28 -> 0.084381939 | I26: =tbl_GreenRevolution[[#This Row],[% Change]]-tbl_GreenRevolution[[#This Row],[TSX 60]] -> -0.41897449
A27: #VALUE! | B27: {=_FV(tbl_GreenRevolution[[#This Row],[Company]],"Ticker symbol",TRUE)} -> SPY | C27: 378.77 | D27: {=_FV(tbl_GreenRevolution[[#This Row],[Company]],"Price")} -> 384.92 | E27: =(tbl_GreenRevolution[[#This Row],[Price]]-tbl_GreenRevolution[[#This Row],[Start Price]])/tbl_GreenRevolution[[#This Row],[Start Price]] -> 0.016236766 | F27: =$E$27 -> 0.016236766 | G27: =tbl_GreenRevolution[[#This Row],[% Change]]-tbl_GreenRevolution[[#This Row],[S&P 500]] -> 0 | H27: =$E$28 -> 0.084381939 | I27: =tbl_GreenRevolution[[#This Row],[% Change]]-tbl_GreenRevolution[[#This Row],[TSX 60]] -> -0.068145173
A28: #VALUE! | B28: {=_FV(tbl_GreenRevolution[[#This Row],[Company]],"Ticker symbol",TRUE)} -> XIU | C28: 27.02 | D28: {=_FV(tbl_GreenRevolution[[#This Row],[Company]],"Price")} -> 29.3 | E28: =(tbl_GreenRevolution[[#This Row],[Price]]-tbl_GreenRevolution[[#This Row],[Start Price]])/tbl_GreenRevolution[[#This Row],[Start Price]] -> 0.084381939 | F28: =$E$27 -> 0.016236766 | G28: =tbl_GreenRevolution[[#This Row],[% Change]]-tbl_GreenRevolution[[#This Row],[S&P 500]] -> 0.068145173 | H28: =$E$28 -> 0.084381939 | I28: =tbl_GreenRevolution[[#This Row],[% Change]]-tbl_GreenRevolution[[#This Row],[TSX 60]] -> 0
A30: Highest return | B30: =IFERROR(_xlfn.XLOOKUP(C30,E22:E26,B22:B26),"Check") -> ENPH | C30: =MAX(E22:E26) -> 0.28621241
A31: Lowest return | B31: =IFERROR(_xlfn.XLOOKUP(C31,E22:E26,B22:B26),"Check") -> RUN | C31: =MIN(E22:E26) -> -0.77375856
A33: Sampler Average | B33: =AVERAGE(tbl_GreenRevolution[% Change]) -> -0.31319799
A34: S&P 500 Average | B34: =AVERAGE(tbl_GreenRevolution[S&P 500]) -> 0.016236766
A35: TSX 60 Average | B35: =AVERAGE(tbl_GreenRevolution[TSX 60]) -> 0.084381939
A36: Sampler v S&P 500 | B36: =B33-B34 -> -0.32943476
A37: Sampler v TSX 60 | B37: =B33-B35 -> -0.39757993

Sheet ElectricVehicles
A1: Electric Vehicle Stocks | H1: Return to Overall Stats
A20: Start date | B20: 44216
A21: Company | B21: Ticker symbol | C21: Start Price | D21: Price | E21: % Change | F21: S&P 500 | G21: V S&P 500 | H21: TSX 60 | I21: v TSX 60
A22: #VALUE! | B22: {=_FV(tbl_ElectricVehicles[[#This Row],[Company]],"Ticker symbol",TRUE)} -> TSLA | C22: 283.48 | D22: {=_FV(tbl_ElectricVehicles[[#This Row],[Company]],"Price")} -> 222.415 | E22: =(tbl_ElectricVehicles[[#This Row],[Price]]-tbl_ElectricVehicles[[#This Row],[Start Price]])/tbl_ElectricVehicles[[#This Row],[Start Price]] -> -0.21541202 | F22: =$E$27 -> 0.0026830603 | G22: =tbl_ElectricVehicles[[#This Row],[% Change]]-tbl_ElectricVehicles[[#This Row],[S&P 500]] -> -0.21809508 | H22: =$E$28 -> 0.084783414 | I22: =tbl_ElectricVehicles[[#This Row],[% Change]]-tbl_ElectricVehicles[[#This Row],[TSX 60]] -> -0.30019544
A23: #VALUE! | B23: {=_FV(tbl_ElectricVehicles[[#This Row],[Company]],"Ticker symbol",TRUE)} -> GM | C23: 55.86 | D23: {=_FV(tbl_ElectricVehicles[[#This Row],[Company]],"Price")} -> 37.01 | E23: =(tbl_ElectricVehicles[[#This Row],[Price]]-tbl_ElectricVehicles[[#This Row],[Start Price]])/tbl_ElectricVehicles[[#This Row],[Start Price]] -> -0.33745077 | F23: =$E$27 -> 0.0026830603 | G23: =tbl_ElectricVehicles[[#This Row],[% Change]]-tbl_ElectricVehicles[[#This Row],[S&P 500]] -> -0.34013383 | H23: =$E$28 -> 0.084783414 | I23: =tbl_ElectricVehicles[[#This Row],[% Change]]-tbl_ElectricVehicles[[#This Row],[TSX 60]] -> -0.42223418
A24: #VALUE! | B24: {=_FV(tbl_ElectricVehicles[[#This Row],[Company]],"Ticker symbol",TRUE)} -> CRNC | C24: 118.73 | D24: {=_FV(tbl_ElectricVehicles[[#This Row],[Company]],"Price")} -> 17.46 | E24: =(tbl_ElectricVehicles[[#This Row],[Price]]-tbl_ElectricVehicles[[#This Row],[Start Price]])/tbl_ElectricVehicles[[#This Row],[Start Price]] -> -0.85294365 | F24: =$E$27 -> 0.0026830603 | G24: =tbl_ElectricVehicles[[#This Row],[% Change]]-tbl_ElectricVehicles[[#This Row],[S&P 500]] -> -0.85562671 | H24: =$E$28 -> 0.084783414 | I24: =tbl_ElectricVehicles[[#This Row],[% Change]]-tbl_ElectricVehicles[[#This Row],[TSX 60]] -> -0.93772707
A25: #VALUE! | B25: {=_FV(tbl_ElectricVehicles[[#This Row],[Company]],"Ticker symbol",TRUE)} -> AVAV | C25: 131.48 | D25: {=_FV(tbl_ElectricVehicles[[#This Row],[Company]],"Price")} -> 84.75 | E25: =(tbl_ElectricVehicles[[#This Row],[Price]]-tbl_ElectricVehicles[[#This Row],[Start Price]])/tbl_ElectricVehicles[[#This Row],[Start Price]] -> -0.35541527 | F25: =$E$27 -> 0.0026830603 | G25: =tbl_ElectricVehicles[[#This Row],[% Change]]-tbl_ElectricVehicles[[#This Row],[S&P 500]] -> -0.35809833 | H25: =$E$28 -> 0.084783414 | I25: =tbl_ElectricVehicles[[#This Row],[% Change]]-tbl_ElectricVehicles[[#This Row],[TSX 60]] -> -0.44019869
A26: #VALUE! | B26: {=_FV(tbl_ElectricVehicles[[#This Row],[Company]],"Ticker symbol",TRUE)} -> BB | C26: 16.15 | D26: {=_FV(tbl_ElectricVehicles[[#This Row],[Company]],"Price")} -> 6.21 | E26: =(tbl_ElectricVehicles[[#This Row],[Price]]-tbl_ElectricVehicles[[#This Row],[Start Price]])/tbl_ElectricVehicles[[#This Row],[Start Price]] -> -0.61547988 | F26: =$E$27 -> 0.0026830603 | G26: =tbl_ElectricVehicles[[#This Row],[% Change]]-tbl_ElectricVehicles[[#This Row],[S&P 500]] -> -0.61816294 | H26: =$E$28 -> 0.084783414 | I26: =tbl_ElectricVehicles[[#This Row],[% Change]]-tbl_ElectricVehicles[[#This Row],[TSX 60]] -> -0.70026329
A27: #VALUE! | B27: {=_FV(tbl_ElectricVehicles[[#This Row],[Company]],"Ticker symbol",TRUE)} -> SPY | C27: 383.89 | D27: {=_FV(tbl_ElectricVehicles[[#This Row],[Company]],"Price")} -> 384.92 | E27: =(tbl_ElectricVehicles[[#This Row],[Price]]-tbl_ElectricVehicles[[#This Row],[Start Price]])/tbl_ElectricVehicles[[#This Row],[Start Price]] -> 0.0026830603 | F27: =$E$27 -> 0.0026830603 | G27: =tbl_ElectricVehicles[[#This Row],[% Change]]-tbl_ElectricVehicles[[#This Row],[S&P 500]] -> 0 | H27: =$E$28 -> 0.084783414 | I27: =tbl_ElectricVehicles[[#This Row],[% Change]]-tbl_ElectricVehicles[[#This Row],[TSX 60]] -> -0.082100353
A28: #VALUE! | B28: {=_FV(tbl_ElectricVehicles[[#This Row],[Company]],"Ticker symbol",TRUE)} -> XIU | C28: 27.01 | D28: {=_FV(tbl_ElectricVehicles[[#This Row],[Company]],"Price")} -> 29.3 | E28: =(tbl_ElectricVehicles[[#This Row],[Price]]-tbl_ElectricVehicles[[#This Row],[Start Price]])/tbl_ElectricVehicles[[#This Row],[Start Price]] -> 0.084783414 | F28: =$E$27 -> 0.0026830603 | G28: =tbl_ElectricVehicles[[#This Row],[% Change]]-tbl_ElectricVehicles[[#This Row],[S&P 500]] -> 0.082100353 | H28: =$E$28 -> 0.084783414 | I28: =tbl_ElectricVehicles[[#This Row],[% Change]]-tbl_ElectricVehicles[[#This Row],[TSX 60]] -> 0
A30: Highest return | B30: =IFERROR(_xlfn.XLOOKUP(C30,E22:E26,B22:B26),"Check") -> TSLA | C30: =MAX(E22:E26) -> -0.21541202
A31: Lowest return | B31: =IFERROR(_xlfn.XLOOKUP(C31,E22:E26,B22:B26),"Check") -> CRNC | C31: =MIN(E22:E26) -> -0.85294365
A33: Sampler Average | B33: =AVERAGE(tbl_ElectricVehicles[% Change]) -> -0.32703359
A34: S&P 500 Average | B34: =AVERAGE(tbl_ElectricVehicles[S&P 500]) -> 0.0026830603
A35: TSX 60 Average | B35: =AVERAGE(tbl_ElectricVehicles[TSX 60]) -> 0.084783414
A36: Sampler v S&P 500 | B36: =B33-B34 -> -0.32971665
A37: Sampler v TSX 60 | B37: =B33-B35 -> -0.411817

Sheet BuyNowPayLater
A1: Buy Now Pay Later Companies | I1: Return to Overall Stats
A20: Start date | B20: 44236
A21: Company | B21: Start Price | C21: Ticker | D21: Currency | E21: Current Price | F21: % Change | G21: S&P 500 | H21: V S&P 500 | I21: TSX 60 | J21: v TSX 60
A22: #VALUE! | B22: 56.23 | C22: {=_FV(tbl_BuyNowPayLater[[#This Row],[Company]],"Ticker symbol",TRUE)} -> PRG | D22: {=_FV(tbl_BuyNowPayLater[[#This Row],[Company]],"Currency")} -> USD | E22: {=_FV(tbl_BuyNowPayLater[[#This Row],[Company]],"Price")} -> 14.2 | F22: =(tbl_BuyNowPayLater[[#This Row],[Current Price]]-tbl_BuyNowPayLater[[#This Row],[Start Price]])/tbl_BuyNowPayLater[[#This Row],[Start Price]] -> -0.74746577 | G22: =$F$27 -> -0.013493599 | H22: =tbl_BuyNowPayLater[[#This Row],[% Change]]-tbl_BuyNowPayLater[[#This Row],[S&P 500]] -> -0.73397217 | I22: =$F$28 -> 0.064680233 | J22: =tbl_BuyNowPayLater[[#This Row],[% Change]]-tbl_BuyNowPayLater[[#This Row],[TSX 60]] -> -0.812146
A23: #VALUE! | B23: 106.85 | C23: {=_FV(tbl_BuyNowPayLater[[#This Row],[Company]],"Ticker symbol",TRUE)} -> GSY | D23: {=_FV(tbl_BuyNowPayLater[[#This Row],[Company]],"Currency")} -> CAD | E23: {=_FV(tbl_BuyNowPayLater[[#This Row],[Company]],"Price")} -> 111.73 | F23: =(tbl_BuyNowPayLater[[#This Row],[Current Price]]-tbl_BuyNowPayLater[[#This Row],[Start Price]])/tbl_BuyNowPayLater[[#This Row],[Start Price]] -> 0.045671502 | G23: =$F$27 -> -0.013493599 | H23: =tbl_BuyNowPayLater[[#This Row],[% Change]]-tbl_BuyNowPayLater[[#This Row],[S&P 500]] -> 0.059165101 | I23: =$F$28 -> 0.064680233 | J23: =tbl_BuyNowPayLater[[#This Row],[% Change]]-tbl_BuyNowPayLater[[#This Row],[TSX 60]] -> -0.01900873
